{"text_format":"1","workbook":"xlsx","n_sheets":5,"sheets":["P. BDI","QCI","Orçamento novo","CRON","DESTRAVAR"],"not_rendered":{"charts":0,"images":0,"macros":1,"external_links":1,"defined_names":26,"comments":0,"pivot_tables":0},"unopened":[],"bounds":{"document_bytes":16777216,"sheet_cells":100000,"rows_first":2000,"rows_last":500,"rows_between":2000,"halvings":0,"cell_chars":16384,"cell_head_chars":4096},"cells_cut":0,"cells_raw":0,"read":"whole","date_system":"1900"}

{"sheet":"P. BDI","index":0,"n_rows":46,"n_cols":10,"rows_kept":46,"cut":false,"hidden":false,"merged":[[34,1,34,5],[35,1,35,5],[14,3,14,5],[18,2,18,4],[25,1,25,4],[26,1,26,4],[27,1,27,4],[29,1,29,4],[11,3,11,5],[6,2,6,5],[7,2,7,5],[30,1,30,4],[32,1,32,5],[8,2,8,5],[1,1,1,5],[2,2,2,5],[3,2,3,5],[4,2,4,5],[5,2,5,5]]}
[null,"IMPRIMIR EM PAPEL TIMBRADO DA EMPRESA PROPONENTE "]
[null,"BDI - Bonificações e Despesas Indiretas"]
[null,"Edital :","TP -xxx"]
[null,"Tomador: ","Prefeitura Municipal de Dois Vizinhos - PR"]
[null,"Empreendimento: ","CONJUNTO SEMAFORICO"]
[null,"Local da Obra:","Perímetro Urbano Município de Dois Vizinhos"]
[null,"Empresa Prop.:","xxxxxxxxxxxxxx"]
[null,"CNPJ:","xxxxxxxxxxxxxx"]
[null,"Referencia:",{"$f":"'Orçamento novo'!C11","v":"COTAÇÕES DE MERCADO"}]
[]
[null,"Identifique o tipo de obra:",6,{"$f":"IF(C11>0,IF(C11<7,,\"<--- Insira valor entre 1 e 6\"),\"<--- Insira valor entre 1 e 6\")","v":0}]
[null,"Construção de edifícios:",1,"Informe a base de cálculo do ISSQN."]
[null,"Construção de rodovias e ferrovias:",2,{"$f":"IF(D14<>0,0,\"( X )\")","v":0},"Sobre os serviços."]
[null,"Construção de redes de abastecimento de água, coleta de esgoto e construções correlatas:",3,"x","Sobre a mão-de-obra."]
[null,"Construção e manutenção de estações e redes de distribuição de energia elétrica:",4,"Informe a ocorrência da DESONERAÇÃO da folha de pagamento. Lei 12844/2013."]
[null,"Obras portuárias, marítimas e fluviais:",5,{"$f":"IF(D17<>0,0,\"( X )\")","v":0},"SEM Desoneração."]
[null,"Fornecimento de materiais e equipamentos:",6,"x","COM Desoneração."]
[]
[null,null,"Intervalo de admissibilidade",null,null,null,null,"Ac",{"$f":"F21","v":1.4999999999999999E-2}]
[null,"Item Componente do BDI","1º Quartil","Médio","3º Quartil","Valores Propostos",null,"S",{"$f":"F22","v":3.0000000000000001E-3}]
[null,"Administração Central",1.4999999999999999E-2,3.4500000000000003E-2,4.4900000000000002E-2,{"$f":"C21","v":1.4999999999999999E-2},{"$f":"IF(F21=0,\"\",IF(F21<C21,\"Atenção, observar os intervalos!\",IF(F21>E21,\"Atenção, observar os intervalos!\",\"\")))","v":""},"G",{"$f":"I20","v":3.0000000000000001E-3}]
[null,"Seguro e Garantia",3.0000000000000001E-3,4.7999999999999996E-3,8.2000000000000007E-3,{"$f":"C22","v":3.0000000000000001E-3},{"$f":"IF(F22=0,\"\",IF(F22<C22,\"Atenção, observar os intervalos!\",IF(F22>E22,\"Atenção, observar os intervalos!\",\"\")))","v":""},"R",{"$f":"F23","v":5.5999999999999999E-3}]
[null,"Risco",5.5999999999999999E-3,8.5000000000000006E-3,8.8999999999999999E-3,5.5999999999999999E-3,{"$f":"IF(F23=0,\"\",IF(F23<C23,\"Atenção, observar os intervalos!\",IF(F23>E23,\"Atenção, observar os intervalos!\",\"\")))","v":""},"DF",8.5000000000000006E-3]
[null,"Despesas Financeiras",8.5000000000000006E-3,8.5000000000000006E-3,1.11E-2,8.5000000000000006E-3,{"$f":"IF(F24=0,\"\",IF(F24<C24,\"Atenção, observar os intervalos!\",IF(F24>E24,\"Atenção, observar os intervalos!\",\"\")))","v":""},"L",3.5000000000000003E-2]
[null,"Lucro",3.5000000000000003E-2,5.11E-2,6.2199999999999998E-2,3.5000000000000003E-2,{"$f":"IF(F25=0,\"\",IF(F25<C25,\"Atenção, observar os intervalos!\",IF(F25>E25,\"Atenção, observar os intervalos!\",\"\")))","v":""},"l1",3.6499999999999998E-2]
[null,"I1: PIS e COFINS",null,null,null,3.6499999999999998E-2,null,"l2",0.03]
[null,"I2: ISSQN (conforme legislação municipal)",null,null,null,0.03,null,"l3",4.4999999999999998E-2]
[null,"I3: Cont.Prev s/Rec.Bruta (Lei 12844/13 - Desoneração)",null,null,null,4.4999999999999998E-2]
[]
[null,"BDI - SEM Desoneração da folha de pagamento",null,null,null,{"$f":"(((1+I19+I21+I22)*(1+I23)*(1+I24))/(1-I25-I26))-1","v":0.1445432469201926},null,"1º QUARTIL","MÉDIO","3º QUARTIL"]
[null,"BDI - COM Desoneração da folha de pagamento",null,null,null,{"$f":"ROUND((((1+I19+I21+I22)*(1+I23)*(1+I24))/(1-I25-I26-I27))-1,4)","v":0.20250000000000001},null,0.2034,0.22120000000000001,0.25]
[]
[null,"Declaramos que esta planilha foi elaborada conforme equação para cálculo do percentual do BDI recomendada pelo Acórdão 2622/2013 - TCU, representada pela fórmula abaixo."]
[]
[null,"BDI - SEM Desoneração = [(1+AC+S+G+R)X(1+DF)X(1+L)/(1-I1-I2)]-1"]
[null,"BDI - COM Desoneração = [(1+AC+S+G+R)X(1+DF)X(1+L)/(1-I1-I2-I3)]-1"]
[]
[]
[null,"Responsável Técnico:","MARCIO TRENTINI"]
[null,"Carimbo e Assinatura CREA/CAU:","CREA - PR 133392/D"]
[]
[]
[]
[]
[null,"Responsavel Legal:"]
[null,"Carimbo e Assinatura"]

{"sheet":"QCI","index":1,"n_rows":50,"n_cols":8,"rows_kept":50,"cut":false,"hidden":false,"merged":[[31,5,31,6],[32,5,32,6],[33,3,33,4],[36,1,36,2],[35,5,35,6],[36,5,36,6],[36,3,36,4],[34,5,34,6],[35,3,35,4],[31,3,31,4],[32,3,32,4],[34,3,34,4],[33,5,33,6],[11,0,11,1],[9,0,9,1],[10,0,10,1],[30,3,30,4],[9,3,9,4],[12,0,12,1],[13,0,13,1],[24,5,24,6],[25,5,25,6],[28,5,28,6],[29,5,29,6],[14,0,14,1],[30,5,30,6],[27,3,27,4],[27,5,27,6],[1,0,2,7],[7,0,7,1],[7,3,7,4],[7,5,7,6],[8,0,8,1],[8,5,8,6],[28,3,28,4],[29,3,29,4],[8,3,8,4],[26,3,26,4],[26,5,26,6],[24,3,24,4],[25,3,25,4]]}
["IMPRIMIR EM PAPEL TIMBRADO DA EMPRESA PROPONENTE "]
["QUADRO DE COMPOSIÇÃO DE INVESTIMENTO "]
[]
[]
[]
[]
[]
[{"$f":"'P. BDI'!B3","v":"Edital :"},null,{"$f":"'P. BDI'!C3:F3","v":"TP -xxx"},"Valor Tot. s/ BDI:",null,{"$f":"'Orçamento novo'!H21","v":93695.08}]
[{"$f":"'P. BDI'!B4","v":"Tomador: "},null,{"$f":"'P. BDI'!C4:F4","v":"Prefeitura Municipal de Dois Vizinhos - PR"},"Valor Tot. c/ BDI:",null,{"$f":"'Orçamento novo'!H23","v":112668.3337}]
[{"$f":"'P. BDI'!B5","v":"Empreendimento: "},null,{"$f":"'P. BDI'!C5:F5","v":"CONJUNTO SEMAFORICO"}]
[{"$f":"'P. BDI'!B6","v":"Local da Obra:"},null,{"$f":"'P. BDI'!C6:F6","v":"Perímetro Urbano Município de Dois Vizinhos"}]
[{"$f":"'P. BDI'!B7","v":"Empresa Prop.:"},null,{"$f":"'P. BDI'!C7:F7","v":"xxxxxxxxxxxxxx"}]
[{"$f":"'P. BDI'!B8","v":"CNPJ:"},null,{"$f":"'P. BDI'!C8:F8","v":"xxxxxxxxxxxxxx"}]
[{"$f":"'P. BDI'!B9","v":"Referencia:"},null,{"$f":"'P. BDI'!C9:F9","v":"COTAÇÕES DE MERCADO"}]
["BDI c/ desoneração:",null,{"$f":"'P. BDI'!F31","v":0.20250000000000001}]
[]
[]
[]
[]
[]
[]
[]
[]
[]
[null,"ITEM .","DESCRIÇÃO ","% DO GRUPO",null,"VALOR DO GRUPO:",null,"TOTAL ACUM."]
[null,{"$f":"'Orçamento novo'!A16","v":".1"},{"$f":"'Orçamento novo'!C16","v":"CONJUNTO SEMAFORICO EM LED. FORNECIMENTO E INSTALAÇÃO. NO CRUZAMENTO DA RUAS PRES. WASHINGTON LUIZ COM A RUA PADRE ANCHIETA"},{"$f":"F26/$F$37","v":0.5},null,{"$f":"'Orçamento novo'!H16","v":56334.166850000001},null,{"$f":"F26","v":56334.166850000001}]
[null,{"$f":"'Orçamento novo'!A18","v":".2"},{"$f":"'Orçamento novo'!C18","v":"CONJUNTO SEMAFORICO EM LED. FORNECIMENTO E INSTALAÇÃO. NO CRUZAMENTO DA RUA CASTRO ALVES COM A RUA DO COMERCIO"},{"$f":"F27/$F$37","v":0.5},null,{"$f":"'Orçamento novo'!H18","v":56334.166850000001},null,{"$f":"F27+H26","v":112668.3337}]
[]
[]
[]
[]
[]
[]
[]
[]
[]
[null,"TOTAL :",null,{"$f":"SUM(D26:E31)","v":1},null,{"$f":"SUM(F26:G31)","v":112668.3337},null,{"$f":"H27","v":112668.3337}]
[]
[]
[]
[]
[]
[null,null,null,"Responsável Técnico:",{"$f":"'P. BDI'!C39","v":"MARCIO TRENTINI"}]
[null,null,null,"Carimbo e Assinatura CREA/CAU:",{"$f":"'P. BDI'!C40","v":"CREA - PR 133392/D"}]
[]
[]
[]
[]
[null,null,null,"Responsavel Legal:"]
[null,null,null,"Carimbo e Assinatura"]

{"sheet":"Orçamento novo","index":2,"n_rows":36,"n_cols":10,"rows_kept":36,"cut":false,"hidden":false,"merged":[[21,0,21,6],[22,0,22,6],[8,4,8,7],[20,0,20,6],[9,0,9,1],[10,0,10,1],[8,0,8,1],[11,0,11,1],[1,0,2,7],[4,0,4,1],[5,0,5,1],[6,0,6,1],[7,0,7,1],[4,3,4,4],[5,3,5,4]]}
["IMPRIMIR EM PAPEL TIMBRADO DA EMPRESA PROPONENTE "]
["PLANILHA ORÇAMENTARIA"]
[]
[]
[{"$f":"'P. BDI'!B3","v":"Edital :"},null,{"$f":"'P. BDI'!C3:F3","v":"TP -xxx"}]
[{"$f":"'P. BDI'!B4","v":"Tomador: "},null,{"$f":"'P. BDI'!C4:F4","v":"Prefeitura Municipal de Dois Vizinhos - PR"}]
[{"$f":"'P. BDI'!B5","v":"Empreendimento: "},null,{"$f":"'P. BDI'!C5:F5","v":"CONJUNTO SEMAFORICO"}]
[{"$f":"'P. BDI'!B6","v":"Local da Obra:"},null,{"$f":"'P. BDI'!C6:F6","v":"Perímetro Urbano Município de Dois Vizinhos"}]
[{"$f":"'P. BDI'!B7","v":"Empresa Prop.:"},null,{"$f":"'P. BDI'!C7:F7","v":"xxxxxxxxxxxxxx"}]
[{"$f":"'P. BDI'!B8","v":"CNPJ:"},null,{"$f":"'P. BDI'!C8:F8","v":"xxxxxxxxxxxxxx"}]
[{"$f":"'P. BDI'!B9","v":"Referencia:"},null,"COTAÇÕES DE MERCADO"]
["BDI c/ desoneração:",null,{"$f":"QCI!C15","v":0.20250000000000001}]
[]
["ITEM .","REF.","DESCRIÇÃO","UN","VALOR UNIT.","QUANT.","VALOR UNIT C/ BDI","TOTAL"]
[]
[".1","COT.","CONJUNTO SEMAFORICO EM LED. FORNECIMENTO E INSTALAÇÃO. NO CRUZAMENTO DA RUAS PRES. WASHINGTON LUIZ COM A RUA PADRE ANCHIETA","UD",46847.54,1,{"$f":"(E16*$C$12)+E16","v":56334.166850000001},{"$f":"G16*F16","v":56334.166850000001},null,{"$f":"E16*F16","v":46847.54}]
[null,null,null,null,null,null,null,null,null,{"$f":"E17*F17","v":0}]
[".2","COT.","CONJUNTO SEMAFORICO EM LED. FORNECIMENTO E INSTALAÇÃO. NO CRUZAMENTO DA RUA CASTRO ALVES COM A RUA DO COMERCIO","UD",46847.54,1,{"$f":"(E18*$C$12)+E18","v":56334.166850000001},{"$f":"G18*F18","v":56334.166850000001},null,{"$f":"E18*F18","v":46847.54}]
[]
[]
["VALOR TOTAL DA OBRA :",null,null,null,null,null,null,{"$f":"SUM(J16:J20)","v":93695.08}]
["BDI :",null,null,null,null,null,null,{"$f":"H21*C12","v":18973.253700000001}]
["VALOR TOTAL DA OBRA COM BDI:",null,null,null,null,null,null,{"$f":"H21+H22","v":112668.3337}]
[]
[]
[]
[]
[null,null,null,"Responsável Técnico:",{"$f":"'P. BDI'!C39","v":"MARCIO TRENTINI"}]
[null,null,null,"Carimbo e Assinatura CREA/CAU:",{"$f":"'P. BDI'!C40","v":"CREA - PR 133392/D"}]
[]
[]
[]
[]
[]
[null,null,null,"Responsavel Legal:"]
[null,null,null,"Carimbo e Assinatura"]

{"sheet":"CRON","index":3,"n_rows":46,"n_cols":16,"rows_kept":46,"cut":false,"hidden":false,"merged":[[26,2,26,3],[29,4,29,5],[29,2,29,3],[28,4,28,5],[28,2,28,3],[27,2,27,3],[26,4,26,5],[27,4,27,5],[32,1,32,3],[32,4,32,5],[30,4,30,5],[31,4,31,5],[30,1,30,3],[31,1,31,3],[8,0,8,1],[15,4,15,5],[16,4,16,5],[24,2,24,3],[16,2,16,3],[17,2,17,3],[17,4,17,5],[25,2,25,3],[18,4,18,5],[19,4,19,5],[25,4,25,5],[23,2,23,3],[23,4,23,5],[18,2,18,3],[19,2,19,3],[21,2,21,3],[22,2,22,3],[21,4,21,5],[22,4,22,5],[20,2,20,3],[20,4,20,5],[24,4,24,5],[1,0,2,15],[10,0,10,1],[11,0,11,1],[14,2,14,3],[15,2,15,3],[7,0,7,1],[5,5,5,6],[9,0,9,1],[14,4,14,5],[4,0,4,1],[4,3,4,4],[4,5,4,6],[5,0,5,1],[5,3,5,4],[6,0,6,1],[6,3,6,4]]}
["IMPRIMIR EM PAPEL TIMBRADO DA EMPRESA PROPONENTE "]
["CRONOGRAMA FÍSICO-FINANCEIRO "]
[]
[]
[{"$f":"'P. BDI'!B3","v":"Edital :"},null,{"$f":"'P. BDI'!C3:F3","v":"TP -xxx"},"Valor Tot. s/ BDI:",null,{"$f":"QCI!F8","v":93695.08}]
[{"$f":"'P. BDI'!B4","v":"Tomador: "},null,{"$f":"'P. BDI'!C4:F4","v":"Prefeitura Municipal de Dois Vizinhos - PR"},"Valor Tot. c/ BDI:",null,{"$f":"QCI!F9","v":112668.3337}]
[{"$f":"'P. BDI'!B5","v":"Empreendimento: "},null,{"$f":"'P. BDI'!C5:F5","v":"CONJUNTO SEMAFORICO"}]
[{"$f":"'P. BDI'!B6","v":"Local da Obra:"},null,{"$f":"'P. BDI'!C6:F6","v":"Perímetro Urbano Município de Dois Vizinhos"}]
[{"$f":"'P. BDI'!B7","v":"Empresa Prop.:"},null,{"$f":"'P. BDI'!C7:F7","v":"xxxxxxxxxxxxxx"}]
[{"$f":"'P. BDI'!B8","v":"CNPJ:"},null,{"$f":"'P. BDI'!C8:F8","v":"xxxxxxxxxxxxxx"}]
[{"$f":"'P. BDI'!B9","v":"Referencia:"},null,{"$f":"'P. BDI'!C9:F9","v":"COTAÇÕES DE MERCADO"}]
["BDI c/ deson.:",null,{"$f":"'P. BDI'!F31","v":0.20250000000000001}]
[]
[]
[null,"ITEM .","DESCRIÇÃO ",null,"VALOR DO GRUPO",null,"MÊS °1","MÊS °2","MÊS °3","MÊS °4","MÊS °5","MÊS °6","MÊS °7","MÊS °8","MÊS °9","% TOTAL"]
[null,{"$f":"QCI!B26","v":".1"},{"$f":"QCI!C26","v":"CONJUNTO SEMAFORICO EM LED. FORNECIMENTO E INSTALAÇÃO. NO CRUZAMENTO DA RUAS PRES. WASHINGTON LUIZ COM A RUA PADRE ANCHIETA"},null,{"$f":"QCI!F26","v":56334.166850000001},null,0.7,0.3,null,null,null,null,null,null,null,{"$f":"SUM(G16:O16)","v":1}]
[null,{"$f":"QCI!B27","v":".2"},{"$f":"QCI!C27","v":"CONJUNTO SEMAFORICO EM LED. FORNECIMENTO E INSTALAÇÃO. NO CRUZAMENTO DA RUA CASTRO ALVES COM A RUA DO COMERCIO"},null,{"$f":"QCI!F27","v":56334.166850000001},null,0.7,0.3,null,null,null,null,null,null,null,{"$f":"SUM(G17:O17)","v":1}]
[]
[]
[]
[]
[]
[]
[]
[]
[]
[]
[]
[]
[]
[null,"% TOTAL DE EXECUÇÃO:",null,null,1,null,{"$f":"G32/$E$32","v":0.7},{"$f":"H32/$E$32","v":0.3},0,0,{"$f":"K32/$E$32","v":0},0,0,0,0]
[null,"TOTAL:",null,null,{"$f":"SUM(E16:F30)","v":112668.3337},null,{"$f":"(G16*$E$16)+(G17*$E$17)+(G19*$E$19)+(G20*$E$20)+(G21*$E$21)+(G18*$E$18)+(G26*$E$26)+(G27*$E$27)+(G28*$E$28)+(G29*$E$29)+(G30*$E$30)","v":78867.833589999995},{"$f":"(H16*$E$16)+(H17*$E$17)+(H19*$E$19)+(H20*$E$20)+(H21*$E$21)+(H18*$E$18)+(H26*$E$26)+(H27*$E$27)+(H28*$E$28)+(H29*$E$29)+(H30*$E$30)","v":33800.500110000001},{"$f":"(I16*$E$16)+(I17*$E$17)+(I19*$E$19)+(I20*$E$20)+(I21*$E$21)+(I18*$E$18)+(I26*$E$26)+(I27*$E$27)+(I28*$E$28)+(I29*$E$29)+(I30*$E$30)","v":0},{"$f":"(J16*$E$16)+(J17*$E$17)+(J19*$E$19)+(J20*$E$20)+(J21*$E$21)+(J18*$E$18)+(J26*$E$26)+(J27*$E$27)+(J28*$E$28)+(J29*$E$29)+(J30*$E$30)","v":0},{"$f":"(K16*$E$16)+(K17*$E$17)+(K19*$E$19)+(K20*$E$20)+(K21*$E$21)+(K18*$E$18)+(K26*$E$26)+(K27*$E$27)+(K28*$E$28)+(K29*$E$29)+(K30*$E$30)","v":0},{"$f":"(L16*$E$16)+(L17*$E$17)+(L19*$E$19)+(L20*$E$20)+(L21*$E$21)+(L25*$E$25)+(L26*$E$26)+(L27*$E$27)+(L28*$E$28)+(L29*$E$29)+(L30*$E$30)","v":0},0,0,0]
[null,"TOTAL ACUM.:",null,null,null,null,{"$f":"G32","v":78867.833589999995},{"$f":"H32+G33","v":112668.33369999999},{"$f":"I32+H33","v":112668.33369999999},{"$f":"J32+I33","v":112668.33369999999},{"$f":"K32+J33","v":112668.33369999999},{"$f":"L32+K33","v":112668.33369999999},112668.33369999999,112668.33369999999,112668.33369999999]
[]
[]
[]
[]
[]
[null,null,null,null,null,"Responsável Técnico:",{"$f":"'P. BDI'!C39","v":"MARCIO TRENTINI"}]
[null,null,null,null,null,"Carimbo e Assinatura CREA/CAU:",{"$f":"'P. BDI'!C40","v":"CREA - PR 133392/D"}]
[]
[]
[]
[]
[null,null,null,null,null,"Responsavel Legal:"]
[null,null,null,null,null,"Carimbo e Assinatura"]

{"sheet":"DESTRAVAR","index":4,"n_rows":33,"n_cols":1,"rows_kept":33,"cut":false,"hidden":true,"merged":[]}
["Sub DesprotegerPlanilhaAtiva()"]
["Dim i, i1, i2, i3, i4, i5, i6 As Integer, j As Integer, k As Integer, l As Integer, m As Integer, n As Integer"]
["On Error Resume Next"]
["For i = 65 To 66"]
["For j = 65 To 66"]
["For k = 65 To 66"]
["For l = 65 To 66"]
["For m = 65 To 66"]
["For i1 = 65 To 66"]
["For i2 = 65 To 66"]
["For i3 = 65 To 66"]
["For i4 = 65 To 66"]
["For i5 = 65 To 66"]
["For i6 = 65 To 66"]
["For n = 32 To 126"]
["ActiveSheet.Unprotect Chr(i) & Chr(j) & Chr(k) & Chr(l) & Chr(m) & Chr(i1) & Chr(i2) & Chr(i3) & Chr(i4) & Chr(i5) & Chr(i6) & Chr(n)"]
["If ActiveSheet.ProtectContents = False Then"]
["MsgBox \"Planilha desprotegida com sucesso!!!\""]
["Exit Sub"]
["End If"]
["Next"]
["Next"]
["Next"]
["Next"]
["Next"]
["Next"]
["Next"]
["Next"]
["Next"]
["Next"]
["Next"]
["Next"]
["End Sub"]